BEGIN:VCALENDAR
VERSION:2.0
PRODID:-//hacksw/handcal//NONSGML v1.0//EN
BEGIN:VEVENT
UID:7af3849720bcf06c8db77e6d11bb2745@jmcanada.ca
DTSTAMP:20260421T085815Z
DTSTART:20260430T190000Z
DTEND:20260430T203000Z
SUMMARY:JMCanada - Cartes postales : D'Isaac Albeniz à John Williams
DESCRIPTION:
LOCATION:Salle Joseph-Rouleau, 305 Avenue du Mont-Royal E, Montreal, QC H2T 1P8, Canada
END:VEVENT
END:VCALENDAR
